Workbook

Sheet AÇIKLAMALAR
A1: AÇIKLAMALAR;
A2: 1-"Depozito Uygulaması Müracaat Formu" üye firma tarafından 3 nüsha olarak hazırlanacaktır.
A3: 2- Dilekçe sayfası ve her tablo altına kaşe ve imza uygulanmalıdır.
A4: 3- İki nüsha "Depozito Uygulaması Müracaat Formu" TÜMAKÜDER'e kargo-kurye ile ulaştırılmalıdır.
A5: 4-Form doğrudan bu çalışma kitabındaki excel tabloları ile hazırlanıp firma antetli kağıdına yazdırılabilir. Tablo toplamları otomatik olarak hesaplanmaktadır.
A7: TABLOLAR;
A9: 1 | B9: DİLEKÇE | D9: Firma bilgileri doldurulmalıdır
A11: 2 | B11: ÖZET TABLO | C11: Bu sayfada sadece Yılbaşı Stok Bölümüne veri giriniz. Diğer bölümler diğer tablolardan veri alarak oluşmaktadır.Veri giremezsiniz. Tabloda oluşan Yılsonu Stok değerleri, sizin Yılsonu Stok Değerleri ile eşit olmalıdır. Eğer değilse; Yılbaşı Stok, İthalat veya Satış verileriniz hatalıdır. KONTROL EDİNİZ
A13: 3 | B13: İTHALAT-ÜRETİM | C13: Yıl içinde yapılan toplam ithalat miktarları ülkeler bazında-toplam olarak girilmelidir.
A15: 4 | B15: SATIŞLAR | C15: Yıl içinde yapılan tüm akümülatör çıkış miktarları, satış türüne göre ilgili tabloya girilmelidir. Detaylar ilgili sayfada tabloların sağında yer almaktadır.
A19: TABLO DETAYLARI
B20: İTHAL EDİLEN ÜLKE | C20: Akümülatörlerin, gümrük beyannamesindeki menşe ülkesi yazılmalıdır. Tabloda; 10 farklı menşe ülke yer almaktadır. Daha fazla menşe ülkeden ithalat yapılıyorsa tablolara yeteri kadar satır/sayfa eklenmelidir.
B22: AKÜMÜLATÖR TÜRÜ
B23: Kurşun Asit | C23: Kurşun -Asit içeren Akümülatörler; AGM veya JEL Kuru tip akümülatörler,ELEKTROLİTLİ-STARTER , ELEKTROLİTLİ-STASYONER, ELEKTROLİTLİ-TRAKSİYONER Akümülatörler bu sınıftadır
B25: NiCd | C25: Nikel-Kadmiyum plaka içeren akümülatörler
B26: DİĞER | C26: Lityum içeren ve vaya Yukarıdakilerden farklı tipte akümülatörler bu satırda yer almalıdır.
B27: Sayısal Veri girişlerinde; sadece rakam girilmelidir, Nokta/virgül kullanılmamalıdır.
B28: Toplam ADET | C28: Akümülatörlerin yıllık toplam adedi yazılacaktır.
B30: Toplam Kg | C30: Akümülatörlerin yıllık toplam Kg'ı yazılacaktır.(Katalog değerlerinden hesaplanabilir). 1Kg'dan az miktarlar tam sayıya yuvarlanmalıdır.
B32: Toplam AMPERSAAT | C32: Akümülatörlerin yıllık toplam amper saati yazılacaktır.

Sheet DİLEKÇE
A1: DEPOZİTO UYGULAMASI MÜRACAAT FORMU
A3: 1- FİRMA İLE İLGİLİ BİLGİLER:
A5: Firma Adı | B5: :
A6: Firma Kodu(*) | B6: :
A7: Adres | B7: :
A8: Telefon | B8: :
A9: Faks | B9: :
A10: E-mail | B10: :
A11: Web sitesi | B11: :
A12: Vergi Dairesi | B12: :
A13: Vergi No | B13: :
A14: Firmada Çevre Sorumlusunun Adı-Soyadı | B14: :
A16: 2- ÜRETİM, İTHALAT VE STOK İLE İLGİLİ BİLGİLER
A17: Ekli sayfalarda verilmiştir.
A18: 3- ATlK AKÜMÜLATÖRLERİN YÖNETİMİ İLE İLGİLİ BİLGİLER
A20: Firmamız TÜMAKÜDER atık yönetim planı içindedir. “Atık Pil ve Akümülatörlerin Kontrolu Yönetmeliği” kapsamındaki yükümlülüklerimiz, adı geçen dernek bünyesinde yapılan organizasyon ile yerine getirilecektir.
A21: Formda verilen bilgilerin doğruluğunu kabul ederek, bu bilgilerin yanlışlığının tespit edilmesi halinde, 2872 sayılı Çevre Kanunu'nun ilgili maddesine göre gerçeğe aykırı belge düzenleyenIere verilecek cezaların bilgim dahilinde olduğunu belirtir; Atık Pil ve Akümülatörlerin Kontrolü Yönetmeliği'nin ilgili maddeleri uyarınca yapmış olduğumuz depozito uygulaması izin başvurumuzun kabul edilmesi hususunda gereğini arz ederim.
G24: Bu Bölüme ;Firma Kaşesi basılmalı ,İmza atılmalı ve Formu imzalayan Yetkili/Yetkililerin Adı, Soyadı, Unvanı ve Tarih yazılmalıdır.

Sheet ÖZET TABLO
A1: =DİLEKÇE!C5 -> 0
A3: 31.12.2021 İTİBARI İLE AKÜMÜLATÖR STOKLARI (2022 YILBAŞI STOK)
A4: SIRA NO | B4: AKÜMÜLATÖR TÜRÜ | C4: Toplam ADET | D4: Toplam Kg | E4: Toplam AMPERSAAT
A6: 1 | B6: Kurşun-Asit | H6: Bu sayfada sadece 2022 YILBAŞI STOK Bölümüne veri giriniz. Diğer bölümler diğer tablolardan veri alarak oluşmaktadır.Veri giremezsiniz.
A7: 2 | B7: NiCd(Nikel-Kadmiyum)
A8: 3 | B8: DİĞER( Lityum vb.)
A9: GENEL TOPLAM | C9: =SUM(C6:C8) -> 0 | D9: =SUM(D6:D8) -> 0 | E9: =SUM(E6:E8) -> 0
A11: 2022 YILI ÜRETİLEN VEYA İTHAL EDİLEN AKÜMÜLATÖRLER
A12: SIRA NO | B12: AKÜMÜLATÖR TÜRÜ | C12: Toplam ADET | D12: Toplam Kg | E12: Toplam AMPERSAAT
A14: 1 | B14: Kurşun-Asit | C14: ='İTHALAT-ÜRETİM'!E7 -> 0 | D14: ='İTHALAT-ÜRETİM'!F7 -> 0 | E14: ='İTHALAT-ÜRETİM'!G7 -> 0
A15: 2 | B15: NiCd(Nikel-Kadmiyum) | C15: ='İTHALAT-ÜRETİM'!E8 -> 0 | D15: ='İTHALAT-ÜRETİM'!F8 -> 0 | E15: ='İTHALAT-ÜRETİM'!G8 -> 0
A16: 3 | B16: DİĞER( Lityum vb.) | C16: ='İTHALAT-ÜRETİM'!E9 -> 0 | D16: ='İTHALAT-ÜRETİM'!F9 -> 0 | E16: ='İTHALAT-ÜRETİM'!G9 -> 0
A17: GENEL TOPLAM | C17: =SUM(C14:C16) -> 0 | D17: =SUM(D14:D16) -> 0 | E17: =SUM(E14:E16) -> 0
A19: 2022 YILI DEPOZİTOYA TABİ AKÜMÜLATÖR SATIŞLARI
A20: SIRA NO | B20: AKÜMÜLATÖR TÜRÜ | C20: Toplam ADET | D20: Toplam Kg | E20: Toplam AMPERSAAT
A22: 1 | B22: Kurşun-Asit | C22: =SATIŞLAR!C10 -> 0 | D22: =SATIŞLAR!D10 -> 0 | E22: =SATIŞLAR!E10 -> 0
A23: 2 | B23: NiCd(Nikel-Kadmiyum) | C23: =SATIŞLAR!C11 -> 0 | D23: =SATIŞLAR!D11 -> 0 | E23: =SATIŞLAR!E11 -> 0
A24: 3 | B24: DİĞER( Lityum vb.) | C24: =SATIŞLAR!C12 -> 0 | D24: =SATIŞLAR!D12 -> 0 | E24: =SATIŞLAR!E12 -> 0
A25: GENEL TOPLAM | C25: =SUM(C22:C24) -> 0 | D25: =SUM(D22:D24) -> 0 | E25: =SUM(E22:E24) -> 0
A27: 2022 YILI DEPOZİTO KAPSAMI DIŞI AKÜMÜLATÖR SATIŞLARI
A28: SIRA NO | B28: AKÜMÜLATÖR TÜRÜ | C28: Toplam ADET | D28: Toplam Kg | E28: Toplam AMPERSAAT
A30: 1 | B30: Kurşun-Asit | C30: =SATIŞLAR!C18+SATIŞLAR!C26+SATIŞLAR!C34 -> 0 | D30: =SATIŞLAR!D18+SATIŞLAR!D26+SATIŞLAR!D34 -> 0 | E30: =SATIŞLAR!E18+SATIŞLAR!E26+SATIŞLAR!E34 -> 0
A31: 2 | B31: NiCd(Nikel-Kadmiyum) | C31: =SATIŞLAR!C19+SATIŞLAR!C27+SATIŞLAR!C35 -> 0 | D31: =SATIŞLAR!D19+SATIŞLAR!D27+SATIŞLAR!D35 -> 0 | E31: =SATIŞLAR!E19+SATIŞLAR!E27+SATIŞLAR!E35 -> 0
A32: 3 | B32: DİĞER( Lityum vb.) | C32: =SATIŞLAR!C20+SATIŞLAR!C28+SATIŞLAR!C36 -> 0 | D32: =SATIŞLAR!D20+SATIŞLAR!D28+SATIŞLAR!D36 -> 0 | E32: =SATIŞLAR!E20+SATIŞLAR!E28+SATIŞLAR!E36 -> 0
A33: GENEL TOPLAM | C33: =SUM(C30:C32) -> 0 | D33: =SUM(D30:D32) -> 0 | E33: =SUM(E30:E32) -> 0
A35: 31.12.2022 İTİBARI İLE AKÜMÜLATÖR STOKLARI (2022 YILSONU STOK)
A36: SIRA NO | B36: AKÜMÜLATÖR TÜRÜ | C36: Toplam ADET | D36: Toplam Kg | E36: Toplam AMPERSAAT
A38: 1 | B38: Kurşun-Asit | C38: =C6+C14-C22-C30 -> 0 | D38: =D6+D14-D22-D30 -> 0 | E38: =E6+E14-E22-E30 -> 0
A39: 2 | B39: NiCd(Nikel-Kadmiyum) | C39: =C7+C15-C23-C31 -> 0 | D39: =D7+D15-D23-D31 -> 0 | E39: =E7+E15-E23-E31 -> 0
A40: 3 | B40: DİĞER( Lityum vb.) | C40: =C8+C16-C24-C32 -> 0 | D40: =D8+D16-D24-D32 -> 0 | E40: =E8+E16-E24-E32 -> 0
A41: GENEL TOPLAM | C41: =SUM(C38:C40) -> 0 | D41: =SUM(D38:D40) -> 0 | E41: =SUM(E38:E40) -> 0

Sheet İTHALAT-ÜRETİM
A1: =DİLEKÇE!C5 -> 0
A3: 2022 YILI İÇİNDE ÜRETİLEN VEYA İTHAL EDİLEN AKÜMÜLATÖRLER
C5: SIRA NO | D5: AKÜMÜLATÖR TÜRÜ | E5: Toplam ADET | F5: Toplam Kg | G5: Toplam AMPERSAAT | I5: GENEL TOPLAM Bu bölüme bilgi girilemez. Otomatik olarak hesaplanmaktadır.
A7: TOPLAM | C7: 1 | D7: Kurşun-Asit | E7: =SUM(E14,E18,E22,E26,E30,E34,E38,E42,E46,E50) -> 0 | F7: =SUM(F14,F18,F22,F26,F30,F34,F38,F42,F46,F50) -> 0 | G7: =SUM(G14,G18,G22,G26,G30,G34,G38,G42,G46,G50) -> 0
C8: 2 | D8: NiCd(Nikel-Kadmiyum) | E8: =SUM(E15,E19,E23,E27,E31,E35,E39,E43,E47,E51) -> 0 | F8: =SUM(F15,F19,F23,F27,F31,F35,F39,F43,F47,F51) -> 0 | G8: =SUM(G15,G19,G23,G27,G31,G35,G39,G43,G47,G51) -> 0
C9: 3 | D9: DİĞER( Lityum vb.) | E9: =SUM(E16,E20,E24,E28,E32,E36,E40,E44,E48,E52) -> 0 | F9: =SUM(F16,F20,F24,F28,F32,F36,F40,F44,F48,F52) -> 0 | G9: =SUM(G16,G20,G24,G28,G32,G36,G40,G44,G48,G52) -> 0
A10: GENEL TOPLAM | E10: =SUM(E7:E9) -> 0 | F10: =SUM(F7:F9) -> 0 | G10: =SUM(G7:G9) -> 0
A12: İTHAL EDİLEN ÜLKE | C12: SIRA NO | D12: AKÜMÜLATÖR TÜRÜ | E12: Toplam ADET | F12: Toplam Kg | G12: Toplam AMPERSAAT | I12: ÜLKE bazında İthalat Verileri; Her Ülkeyi Ayrı bölümdeolmak üzere İthalat verilerinizi giriniz.
A13: SIRA NO | B13: ÜLKE ADI
A14: 1 | C14: 1 | D14: Kurşun-Asit
C15: 2 | D15: NiCd(Nikel-Kadmiyum)
C16: 3 | D16: DİĞER( Lityum vb.)
A17: =CONCATENATE("TOPLAM ",B14) -> TOPLAM | E17: =SUM(E14:E16) -> 0 | F17: =SUM(F14:F16) -> 0 | G17: =SUM(G14:G16) -> 0
A18: 2 | C18: 1 | D18: Kurşun-Asit
C19: 2 | D19: NiCd(Nikel-Kadmiyum)
C20: 3 | D20: DİĞER( Lityum vb.)
A21: =CONCATENATE("TOPLAM ",B18) -> TOPLAM | E21: =SUM(E18:E20) -> 0 | F21: =SUM(F18:F20) -> 0 | G21: =SUM(G18:G20) -> 0
A22: 3 | C22: 1 | D22: Kurşun-Asit
C23: 2 | D23: NiCd(Nikel-Kadmiyum)
C24: 3 | D24: DİĞER( Lityum vb.)
A25: =CONCATENATE("TOPLAM ",B22) -> TOPLAM | E25: =SUM(E22:E24) -> 0 | F25: =SUM(F22:F24) -> 0 | G25: =SUM(G22:G24) -> 0
A26: 4 | C26: 1 | D26: Kurşun-Asit
C27: 2 | D27: NiCd(Nikel-Kadmiyum)
C28: 3 | D28: DİĞER( Lityum vb.)
A29: =CONCATENATE("TOPLAM ",B26) -> TOPLAM | E29: =SUM(E26:E28) -> 0 | F29: =SUM(F26:F28) -> 0 | G29: =SUM(G26:G28) -> 0
A30: 5 | C30: 1 | D30: Kurşun-Asit
C31: 2 | D31: NiCd(Nikel-Kadmiyum)
C32: 3 | D32: DİĞER( Lityum vb.)
A33: =CONCATENATE("TOPLAM ",B30) -> TOPLAM | E33: =SUM(E30:E32) -> 0 | F33: =SUM(F30:F32) -> 0 | G33: =SUM(G30:G32) -> 0
A34: 6 | C34: 1 | D34: Kurşun-Asit
C35: 2 | D35: NiCd(Nikel-Kadmiyum)
C36: 3 | D36: DİĞER( Lityum vb.)
A37: =CONCATENATE("TOPLAM ",B34) -> TOPLAM | E37: =SUM(E34:E36) -> 0 | F37: =SUM(F34:F36) -> 0 | G37: =SUM(G34:G36) -> 0
A38: 7 | C38: 1 | D38: Kurşun-Asit
C39: 2 | D39: NiCd(Nikel-Kadmiyum)
C40: 3 | D40: DİĞER( Lityum vb.)
A41: =CONCATENATE("TOPLAM ",B38) -> TOPLAM | E41: =SUM(E38:E40) -> 0 | F41: =SUM(F38:F40) -> 0 | G41: =SUM(G38:G40) -> 0
A42: 8 | C42: 1 | D42: Kurşun-Asit
C43: 2 | D43: NiCd(Nikel-Kadmiyum)
C44: 3 | D44: DİĞER( Lityum vb.)
...

Sheet SATIŞLAR
A1: =DİLEKÇE!C5 -> 0
A2: 2022 YILI TOPLAM AKÜMÜLATÖR ÇIKIŞ MİKTARLARI
C3: Toplam ADET | D3: Toplam Kg | E3: Toplam AMPERSAAT | G3: GENEL TOPLAM Bu bölüme bilgi girilemez. Otomatik olarak hesaplanmaktadır.
A5: GENEL TOPLAM | C5: =C13+C21+C29+C37 -> 0 | D5: =D13+D21+D29+D37 -> 0 | E5: =E13+E21+E29+E37 -> 0
A7: 2022 YILINDA SATILAN AKÜMÜLATÖRLER (NET SATIŞ) | G7: Verileri Tamsayı olarak giriniz.
A8: SIRA NO | B8: AKÜMÜLATÖR TÜRÜ | C8: Toplam ADET | D8: Toplam Kg | E8: Toplam AMPERSAAT
A10: 1 | B10: Kurşun-Asit | G10: (NET SATIŞ) Bu bölüme Faturasında "Akümülatör" olarak tüketiciye yapılan satışları giriniz
A11: 2 | B11: NiCd(Nikel-Kadmiyum)
A12: 3 | B12: DİĞER( Lityum vb.)
A13: GENEL TOPLAM | C13: =SUM(C10:C12) -> 0 | D13: =SUM(D10:D12) -> 0 | E13: =SUM(E10:E12) -> 0
A15: 2022 YILI CİHAZ ÜRETİCİLERİNE SATILAN (OEM ) AKÜMÜLATÖRLER
A16: SIRA NO | B16: AKÜMÜLATÖR TÜRÜ | C16: Toplam ADET | D16: Toplam Kg | E16: Toplam AMPERSAAT | G16: (OEM ) Bu bölümeüretmekte olduğunuz cihazlara monte ederek, satış Faturanızda "Cihaz" olarak sattığınız ürünlerde yer alan akümülatör miktarlarını giriniz. Faturasında "Akümülatör" olarak belirtilse bile Alıcı Firma Cihaz üreticisi ise ve bu akümülatörler bu cihazlara monte edilmek amacı ile kullanılıyor ise bu satışlarda bu bölüme eklenmelidir.
A18: 1 | B18: Kurşun-Asit
A19: 2 | B19: NiCd(Nikel-Kadmiyum)
A20: 3 | B20: DİĞER( Lityum vb.)
A21: GENEL TOPLAM | C21: =SUM(C18:C20) -> 0 | D21: =SUM(D18:D20) -> 0 | E21: =SUM(E18:E20) -> 0
A23: 2022 YILI KAMU KURUMLARINA SATILAN (İHALE) AKÜMÜLATÖRLER
A24: SIRA NO | B24: AKÜMÜLATÖR TÜRÜ | C24: Toplam ADET | D24: Toplam Kg | E24: Toplam AMPERSAAT
A26: 1 | B26: Kurşun-Asit | G26: (İHALE) Bu bölüme İhale kapsamında olarak satışı yapılan Akümülatör miktarlarını giriniz
A27: 2 | B27: NiCd(Nikel-Kadmiyum)
A28: 3 | B28: DİĞER( Lityum vb.)
A29: GENEL TOPLAM | C29: =SUM(C26:C28) -> 0 | D29: =SUM(D26:D28) -> 0 | E29: =SUM(E26:E28) -> 0
A31: 2022 YILI İÇİNDE YURTDIŞINA SATILAN AKÜMÜLATÖRLER
A32: SIRA NO | B32: AKÜMÜLATÖR TÜRÜ | C32: Toplam ADET | D32: Toplam Kg | E32: Toplam AMPERSAAT
A34: 1 | B34: Kurşun-Asit | G34: YURTDIŞINA SATILAN (İHRACAAT) Bu bölüme Yurtdışına yaptığınız Akümülatör satış miktarlarını giriniz.
A35: 2 | B35: NiCd(Nikel-Kadmiyum)
A36: 3 | B36: DİĞER( Lityum vb.)
A37: GENEL TOPLAM | C37: =SUM(C34:C36) -> 0 | D37: =SUM(D34:D36) -> 0 | E37: =SUM(E34:E36) -> 0

Sheet Sheet1
